BEGIN:VCALENDAR
VERSION:2.0
PRODID:-//jEvents 2.0 for Joomla//EN
CALSCALE:GREGORIAN
METHOD:PUBLISH
BEGIN:VTIMEZONE
TZID:Europe/Berlin
BEGIN:STANDARD
DTSTART:20151025T020000
RDATE:20160327T030000
TZOFFSETFROM:+0200
TZOFFSETTO:+0100
TZNAME:Europe/Berlin CET
END:STANDARD
BEGIN:STANDARD
DTSTART:20161030T020000
RDATE:20170326T030000
TZOFFSETFROM:+0200
TZOFFSETTO:+0100
TZNAME:Europe/Berlin CET
END:STANDARD
BEGIN:STANDARD
DTSTART:20171029T020000
RDATE:20180325T030000
TZOFFSETFROM:+0200
TZOFFSETTO:+0100
TZNAME:Europe/Berlin CET
END:STANDARD
BEGIN:STANDARD
DTSTART:20181028T020000
RDATE:20190331T030000
TZOFFSETFROM:+0200
TZOFFSETTO:+0100
TZNAME:Europe/Berlin CET
END:STANDARD
BEGIN:STANDARD
DTSTART:20191027T020000
RDATE:20200329T030000
TZOFFSETFROM:+0200
TZOFFSETTO:+0100
TZNAME:Europe/Berlin CET
END:STANDARD
BEGIN:STANDARD
DTSTART:20201025T020000
RDATE:20210328T030000
TZOFFSETFROM:+0200
TZOFFSETTO:+0100
TZNAME:Europe/Berlin CET
END:STANDARD
BEGIN:STANDARD
DTSTART:20211031T020000
RDATE:20220327T030000
TZOFFSETFROM:+0200
TZOFFSETTO:+0100
TZNAME:Europe/Berlin CET
END:STANDARD
BEGIN:STANDARD
DTSTART:20221030T020000
RDATE:20230326T030000
TZOFFSETFROM:+0200
TZOFFSETTO:+0100
TZNAME:Europe/Berlin CET
END:STANDARD
BEGIN:STANDARD
DTSTART:20231029T020000
RDATE:20240331T030000
TZOFFSETFROM:+0200
TZOFFSETTO:+0100
TZNAME:Europe/Berlin CET
END:STANDARD
BEGIN:STANDARD
DTSTART:20241027T020000
RDATE:20250330T030000
TZOFFSETFROM:+0200
TZOFFSETTO:+0100
TZNAME:Europe/Berlin CET
END:STANDARD
BEGIN:STANDARD
DTSTART:20251026T020000
RDATE:20260329T030000
TZOFFSETFROM:+0200
TZOFFSETTO:+0100
TZNAME:Europe/Berlin CET
END:STANDARD
BEGIN:STANDARD
DTSTART:20261025T020000
RDATE:20270328T030000
TZOFFSETFROM:+0200
TZOFFSETTO:+0100
TZNAME:Europe/Berlin CET
END:STANDARD
BEGIN:STANDARD
DTSTART:20271031T020000
RDATE:20280326T030000
TZOFFSETFROM:+0200
TZOFFSETTO:+0100
TZNAME:Europe/Berlin CET
END:STANDARD
BEGIN:STANDARD
DTSTART:20281029T020000
RDATE:20290325T030000
TZOFFSETFROM:+0200
TZOFFSETTO:+0100
TZNAME:Europe/Berlin CET
END:STANDARD
BEGIN:STANDARD
DTSTART:20291028T020000
RDATE:20300331T030000
TZOFFSETFROM:+0200
TZOFFSETTO:+0100
TZNAME:Europe/Berlin CET
END:STANDARD
BEGIN:STANDARD
DTSTART:20301027T020000
RDATE:20310330T030000
TZOFFSETFROM:+0200
TZOFFSETTO:+0100
TZNAME:Europe/Berlin CET
END:STANDARD
BEGIN:STANDARD
DTSTART:20311026T020000
RDATE:20320328T030000
TZOFFSETFROM:+0200
TZOFFSETTO:+0100
TZNAME:Europe/Berlin CET
END:STANDARD
BEGIN:DAYLIGHT
DTSTART:20150402T080000
RDATE:20151025T020000
TZOFFSETFROM:+0100
TZOFFSETTO:+0200
TZNAME:Europe/Berlin CEST
END:DAYLIGHT
BEGIN:DAYLIGHT
DTSTART:20160327T030000
RDATE:20161030T020000
TZOFFSETFROM:+0100
TZOFFSETTO:+0200
TZNAME:Europe/Berlin CEST
END:DAYLIGHT
BEGIN:DAYLIGHT
DTSTART:20170326T030000
RDATE:20171029T020000
TZOFFSETFROM:+0100
TZOFFSETTO:+0200
TZNAME:Europe/Berlin CEST
END:DAYLIGHT
BEGIN:DAYLIGHT
DTSTART:20180325T030000
RDATE:20181028T020000
TZOFFSETFROM:+0100
TZOFFSETTO:+0200
TZNAME:Europe/Berlin CEST
END:DAYLIGHT
BEGIN:DAYLIGHT
DTSTART:20190331T030000
RDATE:20191027T020000
TZOFFSETFROM:+0100
TZOFFSETTO:+0200
TZNAME:Europe/Berlin CEST
END:DAYLIGHT
BEGIN:DAYLIGHT
DTSTART:20200329T030000
RDATE:20201025T020000
TZOFFSETFROM:+0100
TZOFFSETTO:+0200
TZNAME:Europe/Berlin CEST
END:DAYLIGHT
BEGIN:DAYLIGHT
DTSTART:20210328T030000
RDATE:20211031T020000
TZOFFSETFROM:+0100
TZOFFSETTO:+0200
TZNAME:Europe/Berlin CEST
END:DAYLIGHT
BEGIN:DAYLIGHT
DTSTART:20220327T030000
RDATE:20221030T020000
TZOFFSETFROM:+0100
TZOFFSETTO:+0200
TZNAME:Europe/Berlin CEST
END:DAYLIGHT
BEGIN:DAYLIGHT
DTSTART:20230326T030000
RDATE:20231029T020000
TZOFFSETFROM:+0100
TZOFFSETTO:+0200
TZNAME:Europe/Berlin CEST
END:DAYLIGHT
BEGIN:DAYLIGHT
DTSTART:20240331T030000
RDATE:20241027T020000
TZOFFSETFROM:+0100
TZOFFSETTO:+0200
TZNAME:Europe/Berlin CEST
END:DAYLIGHT
BEGIN:DAYLIGHT
DTSTART:20250330T030000
RDATE:20251026T020000
TZOFFSETFROM:+0100
TZOFFSETTO:+0200
TZNAME:Europe/Berlin CEST
END:DAYLIGHT
BEGIN:DAYLIGHT
DTSTART:20260329T030000
RDATE:20261025T020000
TZOFFSETFROM:+0100
TZOFFSETTO:+0200
TZNAME:Europe/Berlin CEST
END:DAYLIGHT
BEGIN:DAYLIGHT
DTSTART:20270328T030000
RDATE:20271031T020000
TZOFFSETFROM:+0100
TZOFFSETTO:+0200
TZNAME:Europe/Berlin CEST
END:DAYLIGHT
BEGIN:DAYLIGHT
DTSTART:20280326T030000
RDATE:20281029T020000
TZOFFSETFROM:+0100
TZOFFSETTO:+0200
TZNAME:Europe/Berlin CEST
END:DAYLIGHT
BEGIN:DAYLIGHT
DTSTART:20290325T030000
RDATE:20291028T020000
TZOFFSETFROM:+0100
TZOFFSETTO:+0200
TZNAME:Europe/Berlin CEST
END:DAYLIGHT
BEGIN:DAYLIGHT
DTSTART:20300331T030000
RDATE:20301027T020000
TZOFFSETFROM:+0100
TZOFFSETTO:+0200
TZNAME:Europe/Berlin CEST
END:DAYLIGHT
BEGIN:DAYLIGHT
DTSTART:20310330T030000
RDATE:20311026T020000
TZOFFSETFROM:+0100
TZOFFSETTO:+0200
TZNAME:Europe/Berlin CEST
END:DAYLIGHT
END:VTIMEZONE
BEGIN:VEVENT
UID:be87c078bef2f7d2035f7db6c0be088c
CATEGORIES:Arbeitsdienst
CREATED:20160314T184603
SUMMARY:Abslippen
URL;VALUE=URI:https://svt-berlin.de/termine/icalrepeat.detail/2016/04/02/267/-/abslippen?
 tmpl=component
DESCRIPTION:Arbeitsdienst zum Abslippen 2016\nDas diesjährige Abslippen findet an einem
  Wochenende statt, Samstag und Sonntag dem 2-3.4.2016. Es beginnt jeweils u
 m 8:00 Uhr.\nDie Reihenfolge der Boote ist aus der Slippliste zu ersehen. D
 ie Tätigkeiten aus der Arbeitsdienstliste.\nNeben dem Abslippen der Boote m
 uss das Gelände aufgeklart und alle sonstigen Einrichtungen der S.V.T. für 
 die neue Segelsaison instandgesetzt werden.\nGrundsätzlich gilt folgendes:\
 nAlle Bootseigner müssen an beiden Tagen anwesend sein. Wenn ein Eigner ver
 hindert ist (schwerwiegender Grund), muss er einem Mitglied die Vollmacht z
 um Abslippen seines Bootes geben. Wurde dies versäumt, entscheidet der Hafe
 nmeister über notwendige Maßnahmen.\n Keine Autos auf dem Gelände!\nAlle Bo
 ote müssen abgeplant sein, Trailer bereits vor dem offiziellen Termin abgeb
 ockt sein und der Reifendruck der Trailer ist zu kontrollieren!\nNach Mögli
 chkeit werden alle Boote geslippt! Umsetzungen sollten vermieden werden.\nW
 er zu einem späteren Zeitpunkt sein Boot abslippen möchte, muss sich selbst
  darum kümmern, sowie den neuen Abslipptermin im Hafenhandbuch eintragen.\n
 Ab dem 28.04.16 bis einschließlich dem 01.05.16 können keine Vereinsboote g
 eslippt werden. - Regattatage bei der SVT - Gastlieger im Hafen!\nDas Krane
 n erfolgt nur durch die dafür bestimmten Mitglieder. \nDie Gurte müssen mit
  einer Sorgleine verbunden sein. \nDer Eigner ist beim Kranen eigenverantwo
 rtlich. \nNach dem Festmachen des Bootes und dem Zusammenlegen des Gestelle
 s bitte beim weiteren Arbeitsdienst mithelfen. \nGelände und Dachrinnen der
  Halle und des Hauses säubern. \nBitte beachten Sie die üblichen Unfallverh
 ütungsvorschriften.\nVielen Dank und gutes Gelingen beim Abslippen\nHafenme
 ister\n\n\n\n\nZum Download der Dokumente bitte einloggen!\n
X-ALT-DESC;FMTTYPE=text/html:<p style="text-align: left;"><strong>Arbeitsdienst zum Abslippen 2016</stro
 ng></p><p style="text-align: left;">Das diesjährige Abslippen findet an ein
 em Wochenende statt, Samstag und Sonntag dem 2-3.4.2016. Es beginnt jeweils
  um 8:00 Uhr.</p><p style="text-align: left;"><strong>Die Reihenfolge der B
 oote ist aus der Slippliste zu ersehen. Die Tätigkeiten aus der Arbeitsdien
 stliste.</strong></p><p style="text-align: left;">Neben dem Abslippen der B
 oote muss das Gelände aufgeklart und alle sonstigen Einrichtungen der S.V.T
 . für die neue Segelsaison instandgesetzt werden.</p><p style="text-align: 
 left;">Grundsätzlich gilt folgendes:</p><p style="text-align: left;">Alle B
 ootseigner müssen an beiden Tagen anwesend sein. Wenn ein Eigner verhindert
  ist (schwerwiegender Grund), muss er einem Mitglied die Vollmacht zum Absl
 ippen seines Bootes geben. Wurde dies versäumt, entscheidet der Hafenmeiste
 r über notwendige Maßnahmen.<br /> <strong>Keine Autos auf dem Gelände!</st
 rong></p><p style="text-align: left;">Alle Boote müssen abgeplant sein, Tra
 iler bereits vor dem offiziellen Termin abgebockt sein und der Reifendruck 
 der Trailer ist zu kontrollieren!</p><p style="text-align: left;">Nach Mögl
 ichkeit werden alle Boote geslippt! Umsetzungen sollten vermieden werden.</
 p><p style="text-align: left;">Wer zu einem späteren Zeitpunkt sein Boot ab
 slippen möchte, muss sich selbst darum kümmern, sowie den neuen Abslippterm
 in im Hafenhandbuch eintragen.</p><p style="text-align: left;">Ab dem 28.04
 .16 bis einschließlich dem 01.05.16 können keine Vereinsboote geslippt werd
 en. - Regattatage bei der SVT - Gastlieger im Hafen!</p><p style="text-alig
 n: left;">Das Kranen erfolgt nur durch die dafür bestimmten Mitglieder. <br
  />Die Gurte müssen mit einer Sorgleine verbunden sein. <br />Der Eigner is
 t beim Kranen eigenverantwortlich. <br />Nach dem Festmachen des Bootes und
  dem Zusammenlegen des Gestelles bitte beim weiteren Arbeitsdienst mithelfe
 n. <br />Gelände und Dachrinnen der Halle und des Hauses säubern. <br />Bit
 te beachten Sie die üblichen Unfallverhütungsvorschriften.</p><p style="tex
 t-align: left;">Vielen Dank und gutes Gelingen beim Abslippen</p><p style="
 text-align: left;">Hafenmeister</p><p style="text-align: left;"><span style
 ="color: #333333; font-family: 'Helvetica Neue', Helvetica, Arial, sans-ser
 if; font-size: 13px;"></span></p><p style="text-align: left;"><span style="
 color: #333333; font-family: 'Helvetica Neue', Helvetica, Arial, sans-serif
 ; font-size: 13px;"><br /></span><span style="color: #333333; font-family: 
 'Helvetica Neue', Helvetica, Arial, sans-serif; font-size: 13px;"><span sty
 le="color: #333333; font-family: 'Helvetica Neue', Helvetica, Arial, sans-s
 erif; font-size: 13px;"><br /></span></span><span style="color: #333333; fo
 nt-family: 'Helvetica Neue', Helvetica, Arial, sans-serif; font-size: 13px;
 "></span></p><p style="text-align: left;"><strong><em>Zum Download der Doku
 mente bitte einloggen!</em></strong></p>
DTSTAMP:20260420T213856
DTSTART;TZID=Europe/Berlin:20160402T080000
DTEND;TZID=Europe/Berlin;VALUE=DATE:20160404
SEQUENCE:0
TRANSP:OPAQUE
END:VEVENT
END:VCALENDAR