BEGIN:VCALENDAR
VERSION:2.0
PRODID:-//jEvents 2.0 for Joomla//EN
CALSCALE:GREGORIAN
METHOD:PUBLISH
BEGIN:VTIMEZONE
TZID:Europe/Berlin
BEGIN:STANDARD
DTSTART:20161030T020000
RDATE:20170326T030000
TZOFFSETFROM:+0200
TZOFFSETTO:+0100
TZNAME:Europe/Berlin CET
END:STANDARD
BEGIN:STANDARD
DTSTART:20171029T020000
RDATE:20180325T030000
TZOFFSETFROM:+0200
TZOFFSETTO:+0100
TZNAME:Europe/Berlin CET
END:STANDARD
BEGIN:STANDARD
DTSTART:20181028T020000
RDATE:20190331T030000
TZOFFSETFROM:+0200
TZOFFSETTO:+0100
TZNAME:Europe/Berlin CET
END:STANDARD
BEGIN:STANDARD
DTSTART:20191027T020000
RDATE:20200329T030000
TZOFFSETFROM:+0200
TZOFFSETTO:+0100
TZNAME:Europe/Berlin CET
END:STANDARD
BEGIN:STANDARD
DTSTART:20201025T020000
RDATE:20210328T030000
TZOFFSETFROM:+0200
TZOFFSETTO:+0100
TZNAME:Europe/Berlin CET
END:STANDARD
BEGIN:STANDARD
DTSTART:20211031T020000
RDATE:20220327T030000
TZOFFSETFROM:+0200
TZOFFSETTO:+0100
TZNAME:Europe/Berlin CET
END:STANDARD
BEGIN:STANDARD
DTSTART:20221030T020000
RDATE:20230326T030000
TZOFFSETFROM:+0200
TZOFFSETTO:+0100
TZNAME:Europe/Berlin CET
END:STANDARD
BEGIN:STANDARD
DTSTART:20231029T020000
RDATE:20240331T030000
TZOFFSETFROM:+0200
TZOFFSETTO:+0100
TZNAME:Europe/Berlin CET
END:STANDARD
BEGIN:STANDARD
DTSTART:20241027T020000
RDATE:20250330T030000
TZOFFSETFROM:+0200
TZOFFSETTO:+0100
TZNAME:Europe/Berlin CET
END:STANDARD
BEGIN:STANDARD
DTSTART:20251026T020000
RDATE:20260329T030000
TZOFFSETFROM:+0200
TZOFFSETTO:+0100
TZNAME:Europe/Berlin CET
END:STANDARD
BEGIN:STANDARD
DTSTART:20261025T020000
RDATE:20270328T030000
TZOFFSETFROM:+0200
TZOFFSETTO:+0100
TZNAME:Europe/Berlin CET
END:STANDARD
BEGIN:STANDARD
DTSTART:20271031T020000
RDATE:20280326T030000
TZOFFSETFROM:+0200
TZOFFSETTO:+0100
TZNAME:Europe/Berlin CET
END:STANDARD
BEGIN:STANDARD
DTSTART:20281029T020000
RDATE:20290325T030000
TZOFFSETFROM:+0200
TZOFFSETTO:+0100
TZNAME:Europe/Berlin CET
END:STANDARD
BEGIN:STANDARD
DTSTART:20291028T020000
RDATE:20300331T030000
TZOFFSETFROM:+0200
TZOFFSETTO:+0100
TZNAME:Europe/Berlin CET
END:STANDARD
BEGIN:STANDARD
DTSTART:20301027T020000
RDATE:20310330T030000
TZOFFSETFROM:+0200
TZOFFSETTO:+0100
TZNAME:Europe/Berlin CET
END:STANDARD
BEGIN:STANDARD
DTSTART:20311026T020000
RDATE:20320328T030000
TZOFFSETFROM:+0200
TZOFFSETTO:+0100
TZNAME:Europe/Berlin CET
END:STANDARD
BEGIN:DAYLIGHT
DTSTART:20160331T080000
RDATE:20161030T020000
TZOFFSETFROM:+0100
TZOFFSETTO:+0200
TZNAME:Europe/Berlin CEST
END:DAYLIGHT
BEGIN:DAYLIGHT
DTSTART:20170326T030000
RDATE:20171029T020000
TZOFFSETFROM:+0100
TZOFFSETTO:+0200
TZNAME:Europe/Berlin CEST
END:DAYLIGHT
BEGIN:DAYLIGHT
DTSTART:20180325T030000
RDATE:20181028T020000
TZOFFSETFROM:+0100
TZOFFSETTO:+0200
TZNAME:Europe/Berlin CEST
END:DAYLIGHT
BEGIN:DAYLIGHT
DTSTART:20190331T030000
RDATE:20191027T020000
TZOFFSETFROM:+0100
TZOFFSETTO:+0200
TZNAME:Europe/Berlin CEST
END:DAYLIGHT
BEGIN:DAYLIGHT
DTSTART:20200329T030000
RDATE:20201025T020000
TZOFFSETFROM:+0100
TZOFFSETTO:+0200
TZNAME:Europe/Berlin CEST
END:DAYLIGHT
BEGIN:DAYLIGHT
DTSTART:20210328T030000
RDATE:20211031T020000
TZOFFSETFROM:+0100
TZOFFSETTO:+0200
TZNAME:Europe/Berlin CEST
END:DAYLIGHT
BEGIN:DAYLIGHT
DTSTART:20220327T030000
RDATE:20221030T020000
TZOFFSETFROM:+0100
TZOFFSETTO:+0200
TZNAME:Europe/Berlin CEST
END:DAYLIGHT
BEGIN:DAYLIGHT
DTSTART:20230326T030000
RDATE:20231029T020000
TZOFFSETFROM:+0100
TZOFFSETTO:+0200
TZNAME:Europe/Berlin CEST
END:DAYLIGHT
BEGIN:DAYLIGHT
DTSTART:20240331T030000
RDATE:20241027T020000
TZOFFSETFROM:+0100
TZOFFSETTO:+0200
TZNAME:Europe/Berlin CEST
END:DAYLIGHT
BEGIN:DAYLIGHT
DTSTART:20250330T030000
RDATE:20251026T020000
TZOFFSETFROM:+0100
TZOFFSETTO:+0200
TZNAME:Europe/Berlin CEST
END:DAYLIGHT
BEGIN:DAYLIGHT
DTSTART:20260329T030000
RDATE:20261025T020000
TZOFFSETFROM:+0100
TZOFFSETTO:+0200
TZNAME:Europe/Berlin CEST
END:DAYLIGHT
BEGIN:DAYLIGHT
DTSTART:20270328T030000
RDATE:20271031T020000
TZOFFSETFROM:+0100
TZOFFSETTO:+0200
TZNAME:Europe/Berlin CEST
END:DAYLIGHT
BEGIN:DAYLIGHT
DTSTART:20280326T030000
RDATE:20281029T020000
TZOFFSETFROM:+0100
TZOFFSETTO:+0200
TZNAME:Europe/Berlin CEST
END:DAYLIGHT
BEGIN:DAYLIGHT
DTSTART:20290325T030000
RDATE:20291028T020000
TZOFFSETFROM:+0100
TZOFFSETTO:+0200
TZNAME:Europe/Berlin CEST
END:DAYLIGHT
BEGIN:DAYLIGHT
DTSTART:20300331T030000
RDATE:20301027T020000
TZOFFSETFROM:+0100
TZOFFSETTO:+0200
TZNAME:Europe/Berlin CEST
END:DAYLIGHT
BEGIN:DAYLIGHT
DTSTART:20310330T030000
RDATE:20311026T020000
TZOFFSETFROM:+0100
TZOFFSETTO:+0200
TZNAME:Europe/Berlin CEST
END:DAYLIGHT
END:VTIMEZONE
BEGIN:VEVENT
UID:ef0e5c77ec1eb588a99c5c0766a4eeb6
CATEGORIES:Arbeitsdienst
CREATED:20161206T205126
SUMMARY:Abslippen
URL;VALUE=URI:https://svt-berlin.de/termine/icalrepeat.detail/2017/04/01/284/-/abslippen?
 tmpl=component
DESCRIPTION:Das diesjährige Abslippen findet diesmal an einem Wochenende statt. Samstag
  und Sonntag den 01.- 02.04.2017. Es beginnt jeweils um 8:00 Uhr. Der 08.- 
 09.04. ist als Ausweichtermin vorgesehen. \n\nDie Reihenfolge der Boote ist
  aus der Slippliste zu ersehen.\nDie Tätigkeit aus der Arbeitsdienstliste.\
 n(Für die Ansicht der Dokumente bitte einloggen)\n\n\n\nNeben dem Abslippen
  der Boote muss das Gelände aufgeklart und alle sonstigen Einrichtungen der
  S.V.T. für die neue Segelsaison instandgesetzt werden. Grundsätzlich gilt 
 folgendes:\n\n - Alle Bootseigner müssen an beiden Tagen anwesend sein. Wen
 n ein Eigner verhindert ist (schwerwiegender Grund), muss er einem Mitglied
  die Vollmacht zum Abslippen seines Bootes\ngeben. Wurde dies versäumt, ent
 scheidet der Hafenmeister über notwendige Maßnahmen.\n - Keine Autos auf de
 m Gelände!\n - Alle Boote müssen abgeplant sein, Trailer bereits vor dem of
 fiziellen Termin abgebockt sein und der Reifendruck der Trailer ist zu kont
 rollieren!\n - Nach Möglichkeit werden alle Boote geslippt! Umsetzungen sol
 lten vermieden werden.\n - Nach dem Slippen des eigenen Bootes sofort wiede
 r am Arbeitsdienst teilnehmen !!!\n - Wer zu einem späteren Zeitpunkt sein 
 Boot abslippen möchte, muss sich selbst darum kümmern, sowie den neuen Absl
 ipptermin im Hafenhandbuch eintragen.\n - Ab dem 24.04.17 bis einschließlic
 h dem 07.05.17 sollten keine Vereinsboote geslippt werden. - Regattatage be
 i der SVT - Gastlieger im Hafen!\n - Das Kranen erfolgt nur durch die dafür
  bestimmten Mitglieder. \n - Die Gurte müssen mit einer Sorgleine verbunden
  sein.\n - Der Eigner ist beim Kranen eigenverantwortlich.Nach dem Festmach
 en des Bootes und dem Zusammenlegen des Gestelles bitte beimweiteren Arbeit
 sdienst mithelfen. Gelände und Dachrinnen der Halle und des Hauses säubern.
  Bitte beachten Sie die üblichen Unfallverhütungsvorschriften. Vielen Dank 
 und ein gutes Gelingen beim Abslippen.\nP.S.\nHafenmeister\n
X-ALT-DESC;FMTTYPE=text/html:<p>Das diesjährige Abslippen findet diesmal an einem Wochenende statt. Sams
 tag und Sonntag den 01.- 02.04.2017. Es beginnt jeweils um 8:00 Uhr. Der 08
 .- 09.04. ist als Ausweichtermin vorgesehen. <br /><br />Die Reihenfolge de
 r Boote ist aus der Slippliste zu ersehen.<br />Die Tätigkeit aus der Arbei
 tsdienstliste.<br />(Für die Ansicht der Dokumente bitte einloggen)<br /><b
 r /><br /></p><p>Neben dem Abslippen der Boote muss das Gelände aufgeklart 
 und alle sonstigen Einrichtungen der S.V.T. für die neue Segelsaison instan
 dgesetzt werden. Grundsätzlich gilt folgendes:</p><ul><li>Alle Bootseigner 
 müssen an beiden Tagen anwesend sein. Wenn ein Eigner verhindert ist (schwe
 rwiegender Grund), muss er einem Mitglied die Vollmacht zum Abslippen seine
 s Bootes<br />geben. Wurde dies versäumt, entscheidet der Hafenmeister über
  notwendige Maßnahmen.</li><li>Keine Autos auf dem Gelände!</li><li>Alle Bo
 ote müssen abgeplant sein, Trailer bereits vor dem offiziellen Termin abgeb
 ockt sein und der Reifendruck der Trailer ist zu kontrollieren!</li><li>Nac
 h Möglichkeit werden alle Boote geslippt! Umsetzungen sollten vermieden wer
 den.</li><li>Nach dem Slippen des eigenen Bootes sofort wieder am Arbeitsdi
 enst teilnehmen !!!</li><li>Wer zu einem späteren Zeitpunkt sein Boot absli
 ppen möchte, muss sich selbst darum kümmern, sowie den neuen Abslipptermin 
 im Hafenhandbuch eintragen.</li><li>Ab dem 24.04.17 bis einschließlich dem 
 07.05.17 sollten keine Vereinsboote geslippt werden. - Regattatage bei der 
 SVT - Gastlieger im Hafen!</li><li>Das Kranen erfolgt nur durch die dafür b
 estimmten Mitglieder. </li><li>Die Gurte müssen mit einer Sorgleine verbund
 en sein.</li><li>Der Eigner ist beim Kranen eigenverantwortlich.</li></ul><
 p>Nach dem Festmachen des Bootes und dem Zusammenlegen des Gestelles bitte 
 beimweiteren Arbeitsdienst mithelfen. Gelände und Dachrinnen der Halle und 
 des Hauses säubern. Bitte beachten Sie die üblichen Unfallverhütungsvorschr
 iften. Vielen Dank und ein gutes Gelingen beim Abslippen.<br />P.S.<br />Ha
 fenmeister</p>
DTSTAMP:20260422T112135
DTSTART;TZID=Europe/Berlin:20170401T080000
SEQUENCE:0
TRANSP:OPAQUE
END:VEVENT
END:VCALENDAR